BEGIN:VCALENDAR
VERSION:2.0
PRODID:-//Schuylkill Action Network - ECPv6.15.20//NONSGML v1.0//EN
CALSCALE:GREGORIAN
METHOD:PUBLISH
X-ORIGINAL-URL:https://schuylkillwaters.org
X-WR-CALDESC:Events for Schuylkill Action Network
REFRESH-INTERVAL;VALUE=DURATION:PT1H
X-Robots-Tag:noindex
X-PUBLISHED-TTL:PT1H
BEGIN:VTIMEZONE
TZID:America/New_York
BEGIN:DAYLIGHT
TZOFFSETFROM:-0500
TZOFFSETTO:-0400
TZNAME:EDT
DTSTART:20230312T070000
END:DAYLIGHT
BEGIN:STANDARD
TZOFFSETFROM:-0400
TZOFFSETTO:-0500
TZNAME:EST
DTSTART:20231105T060000
END:STANDARD
BEGIN:DAYLIGHT
TZOFFSETFROM:-0500
TZOFFSETTO:-0400
TZNAME:EDT
DTSTART:20240310T070000
END:DAYLIGHT
BEGIN:STANDARD
TZOFFSETFROM:-0400
TZOFFSETTO:-0500
TZNAME:EST
DTSTART:20241103T060000
END:STANDARD
BEGIN:DAYLIGHT
TZOFFSETFROM:-0500
TZOFFSETTO:-0400
TZNAME:EDT
DTSTART:20250309T070000
END:DAYLIGHT
BEGIN:STANDARD
TZOFFSETFROM:-0400
TZOFFSETTO:-0500
TZNAME:EST
DTSTART:20251102T060000
END:STANDARD
END:VTIMEZONE
BEGIN:VTIMEZONE
TZID:UTC
BEGIN:STANDARD
TZOFFSETFROM:+0000
TZOFFSETTO:+0000
TZNAME:UTC
DTSTART:20230101T000000
END:STANDARD
END:VTIMEZONE
BEGIN:VEVENT
DTSTART;TZID=America/New_York:20240427T120000
DTEND;TZID=America/New_York:20241202T120000
DTSTAMP:20260424T114644
CREATED:20241004T204145Z
LAST-MODIFIED:20241213T174120Z
UID:881-1714219200-1733140800@schuylkillwaters.org
SUMMARY:Montco Trail Challenge
DESCRIPTION:How to Register\nJoin us for the 9th annual Montgomery County Trail Challenge! The Montco Trail Challenge will run April 27 – December 2\, 2024. Registration is open!\n1. Sign-up\, registration is open! \nPrint your official Montco Trail Challenge card (Spanish\, Korean) or look for them at Montgomery County park and trail kiosks.\nRegister yourself or any members of your household (including dogs). \n2. Get Out and Go! \nGet out and go! Visit any of the 18 participating trails and look for special markers at the entrance (trailheads).\nRecord each symbol you find on your trail card. \n3. Turn in Your Results! \nOnce you have visited as many trails as you can\, return your completed card to a designated dropbox or submit results online. \nYou do not have to walk\, run or bike the entire trail to get credit for the challenge – just visit and enjoy to earn your recognitions!  
URL:https://schuylkillwaters.org/event/montco-trail-challenge-2/
CATEGORIES:SAN
END:VEVENT
BEGIN:VEVENT
DTSTART;TZID=America/New_York:20240508T120000
DTEND;TZID=America/New_York:20241108T120000
DTSTAMP:20260424T114644
CREATED:20241004T204145Z
LAST-MODIFIED:20241213T174119Z
UID:880-1715169600-1731067200@schuylkillwaters.org
SUMMARY:Challenge yourself to live greener in 2024 with Berks Nature's 50 Acts for Nature Challenge!
DESCRIPTION:Start your 50 Acts for Nature Challenge today by downloading your score sheet here!\nBerks Nature has collected 50 actions for you to take – at home\, at work\, and in your community – to help you get started with some new\, greener habits this year! We challenge you to complete as many of these actions as you can this year\, and earn some cool prizes in the process!\nWill you rise to the challenge of greener living?\nIf you complete AT LEAST 25 of the Challenge’s actions\, submit your score sheet to Berks Nature to officially join the contest. All participants will receive a commemorative sticker and be entered to win a variety of prizes including goodie bags from The Nature Place shop\, Kimberton Whole Foods gift cards\, and tickets to Berks Nature’s annual State of the Environment Breakfast. One grand prize winner will score a rain barrel worth $130!\nAll winners will be notified in December to make arrangements for collecting their prizes.\nDeadline to submit your Challenge score sheet is November 8\, 2024
URL:https://schuylkillwaters.org/event/challenge-yourself-to-live-greener-in-2024-with-berks-natures-50-acts-for-nature-challenge-3/
CATEGORIES:SAN
END:VEVENT
BEGIN:VEVENT
DTSTART;TZID=America/New_York:20241027T090000
DTEND;TZID=America/New_York:20241101T170000
DTSTAMP:20260424T114644
CREATED:20241004T203549Z
LAST-MODIFIED:20241213T173606Z
UID:853-1730019600-1730480400@schuylkillwaters.org
SUMMARY:12th Annual Symposium on Harmful Algae - One Bloom: Unifying HAB Science in Aquatic Ecosystems
DESCRIPTION:The theme\, ONE BLOOM\, seeks to identify and highlight commonalities across diverse study systems and disciplines within Harmful Algal Bloom (HAB) research. Sessions and discussions will foster a unified understanding that integrates perspectives and approaches in HAB science\, and equips researchers\, managers\, and policymakers with the knowledge needed to address this pressing environmental challenge.\nThe symposium is open to all registrants. Attendees include national representatives and researchers from academia; state\, federal\, tribal\, and municipal governments; the private sector; and watershed organizations.\nEarly bird registration ends July 19\, 2024. Standard registration closes on September 20\, 2024.\nLearn more and register here\n 
URL:https://schuylkillwaters.org/event/12th-annual-symposium-on-harmful-algae-one-bloom-unifying-hab-science-in-aquatic-ecosystems-2/
CATEGORIES:SAN
END:VEVENT
BEGIN:VEVENT
DTSTART;TZID=UTC:20241101T093000
DTEND;TZID=UTC:20241101T143000
DTSTAMP:20260424T114644
CREATED:20241004T204412Z
LAST-MODIFIED:20241004T204412Z
UID:927-1730453400-1730471400@schuylkillwaters.org
SUMMARY:SAN Annual Meeting
DESCRIPTION: \nJoin partners from across the Schuylkill watershed as we celebrate 21 years of collaboration for a cleaner\, healthier Schuylkill River at our 2024 SANnual Meeting!\nWhen: November 1st\nWhere: McMillan Student Center\, Albright College\, Reading\, PA\nCost: Free – Thanks to our amazing sponsors\, the Philadelphia Water Department and Aqua!\nDon’t miss this opportunity to connect and learn.\nRegistration is required—secure your spot today. Click here to register\nAgenda coming soon!
URL:https://schuylkillwaters.org/event/san-annual-meeting-5/
CATEGORIES:SAN
END:VEVENT
BEGIN:VEVENT
DTSTART;TZID=America/New_York:20241101T093000
DTEND;TZID=America/New_York:20241101T143000
DTSTAMP:20260424T114644
CREATED:20241213T175329Z
LAST-MODIFIED:20241213T175329Z
UID:2833-1730453400-1730471400@schuylkillwaters.org
SUMMARY:SAN Annual (SANnual) Meeting 2024
DESCRIPTION: \nJoin partners from across the Schuylkill watershed as we celebrate 21 years of collaboration for a cleaner\, healthier Schuylkill River at our 2024 SANnual Meeting!\nWhen: November 1st\nWhere: McMillan Student Center\, Albright College\, Reading\, PA (#19 on the Albright College Campus Map)\nCost: Free – Thanks to our hosts at Albright College and our SAN sponsors\, the Philadelphia Water Department and Aqua\, an Essential Utiilities Company! \nDon’t miss this opportunity to connect and learn.\nRegistration is required by October 25th —csecure your spot today. Click here to register\nClick here to view the 2024 SANnual Agenda\n 
URL:https://schuylkillwaters.org/event/san-annual-sannual-meeting-2024/
CATEGORIES:SAN
END:VEVENT
BEGIN:VEVENT
DTSTART;TZID=America/New_York:20241106T100000
DTEND;TZID=America/New_York:20241106T120000
DTSTAMP:20260424T114644
CREATED:20241004T203448Z
LAST-MODIFIED:20241213T173505Z
UID:850-1730887200-1730894400@schuylkillwaters.org
SUMMARY:SAN Agriculture Workgroup Meeting (Virtual)
DESCRIPTION:Join us via Zoom for the final SAN Agriculture Workgroup Meeting of 2024 to connect partners and projects in the Schuylkill Watershed! \nThis meeting will be virtual on Zoom. \nIf you have an agenda item to discuss or would like more information\, please email Meghan Rogalus at mrogalus@delawareestuary.org. You can receive email reminders for the Ag workgroup meetings by signing up here.
URL:https://schuylkillwaters.org/event/san-agriculture-workgroup-meeting-virtual-2/
CATEGORIES:SAN
END:VEVENT
BEGIN:VEVENT
DTSTART;TZID=America/New_York:20241107T090000
DTEND;TZID=America/New_York:20241107T120000
DTSTAMP:20260424T114644
CREATED:20241004T203438Z
LAST-MODIFIED:20241213T173405Z
UID:843-1730970000-1730980800@schuylkillwaters.org
SUMMARY:DCNR Virtual Grant Workshop For Recreation\, Conservation Projects Set For Nov. 7
DESCRIPTION:DCNR will host a November 7 virtual grants workshop to help applicants develop project ideas in preparation for submitting a grant application to the 2025 Community Conservation Partnerships Program (C2P2). \nDCNR’s Bureau of Recreation and Conservation staff will present about grant program selection criteria\, review current program priorities\, and discuss eligible project types.\n2025 potential applicants are strongly encouraged to attend. The workshop is especially suited for municipal officials\, consultants\, board members\, trail managers\, land trust staff\, and park and recreation professionals.\nThe workshop runs from 9:00 a.m. to noon. A general session for all applicants will begin at 9:00 a.m. Project type-specific breakout sessions will follow. \nApplicants should plan on attending both the general session and the breakout session for the project type they plan on applying for. \nThere will be ample time for project-specific Q&A with DCNR’s professional grant managers and regional advisors.\nClick Here to register and for more information.\nNext Grant Rounds Open\n— August 1: ATV/Snowmobile Projects\, Programs Grants [Sept. 30 closes]\n— January 21: Community Recreation & Conservation Planning [April 2 closes]\n— January 21: Land Acquisition & Conservation [April 2 closes]\n— January 21: Community & Watershed Forestry Grant Round Opens [April 2 closes]\n— January 21: Motorized Trails [April 2 closes]\n— January 21: Nonmotorized Trails [April 2 closes]\n— January 21: Park Rehabilitation & Development [April 2 closes]\n— January 21: State & Regional Partnerships [April 2 closes]\nVisit the DCNR Grants webpage for more information.
URL:https://schuylkillwaters.org/event/dcnr-virtual-grant-workshop-for-recreation-conservation-projects-set-for-nov-7-3/
CATEGORIES:SAN
END:VEVENT
BEGIN:VEVENT
DTSTART;TZID=America/New_York:20241107T140000
DTEND;TZID=America/New_York:20241107T150000
DTSTAMP:20260424T114644
CREATED:20241213T173151Z
LAST-MODIFIED:20241213T173151Z
UID:2831-1730988000-1730991600@schuylkillwaters.org
SUMMARY:Center for Watershed Protection FREE Lunch and Learn (Webinar)
DESCRIPTION:Join the Center for Watershed Protection for a FREE lunch and learn to hear about the results of the CWP National Watershed Research Network’s first project Accounting for Climate Change in Post-Construction Stormwater Standards. The Network funds applied research on topics determined by its members. Click here to register and learn more!
URL:https://schuylkillwaters.org/event/center-for-watershed-protection-free-lunch-and-learn-webinar/
CATEGORIES:SAN
END:VEVENT
BEGIN:VEVENT
DTSTART;TZID=America/New_York:20241112T180000
DTEND;TZID=America/New_York:20241112T210000
DTSTAMP:20260424T114644
CREATED:20241004T062004Z
LAST-MODIFIED:20241213T173155Z
UID:791-1731434400-1731445200@schuylkillwaters.org
SUMMARY:Perkiomen Mapping and Flood Mitigation Study - Public Meeting
DESCRIPTION:Flooding in our communities can be devastating. The Perkiomen Mapping & Flood Mitigation Study is the first phase of a long-term effort to help communities make more informed decisions regarding how and where to best implement stormwater management systems and projects in the Perkiomen Watershed. A series of public meetings are being held in Fall 2024 to collect valuable community input on this project.\nJoin the Perkiomen Mapping & Flood Mitigation Study team at Upper Providence Township on November 12th from 6-9pm to learn more and share your experience with flooding in the Perkiomen.\nVisit Perkiomen Watershed Conservancy’s website to learn more and view the latest updates on this study.
URL:https://schuylkillwaters.org/event/perkiomen-mapping-and-flood-mitigation-study-public-meeting-2/
CATEGORIES:SAN
END:VEVENT
BEGIN:VEVENT
DTSTART;TZID=America/New_York:20241113T083000
DTEND;TZID=America/New_York:20241113T160000
DTSTAMP:20260424T114644
CREATED:20241004T203415Z
LAST-MODIFIED:20241213T173357Z
UID:838-1731486600-1731513600@schuylkillwaters.org
SUMMARY:NJ Dam Removal Partnership Fish Passage Training
DESCRIPTION:The Nature Conservancy\, with funding from the National Fish and Wildlife Foundation’s Delaware Watershed Conservation Fund\, is pleased to announce a free\, one-day NJ Dam Removal Partnership Fish Passage Training course led by U.S. Fish and Wildlife Service. Please feel free to circulate among interested colleagues or with other organizations. \nDate: Wednesday\, November 13\, 2024\nTime: 8:30 a.m. – 5:00 p.m.\nLocation: Trenton\, NJ\nThe U.S. Fish & Wildlife Service training course will benefit biologists\, engineers\, hydrologists\, environmental scientists\, and other practitioners involved in the evaluation and design of fish passage projects. The full-day program will feature technical instruction intermixed with case studies. Topics include dam removal considerations and constraints\, site assessment\, fish movement and fatigue\, fishways\, and stream gaging weirs. \nPlease take this survey by September 13 to apply for this training opportunity.  Pre-registrants will be notified by September 20th\, if they have been or not been selected for the workshop.  Preference will be given to applicants who anticipate working on a dam removal in the Delaware River Basin in the next 18 months. A registration link will be sent out to those accepted for the training in September.
URL:https://schuylkillwaters.org/event/nj-dam-removal-partnership-fish-passage-training-6/
CATEGORIES:SAN
END:VEVENT
BEGIN:VEVENT
DTSTART;TZID=America/New_York:20241115T100000
DTEND;TZID=America/New_York:20241115T120000
DTSTAMP:20260424T114644
CREATED:20241004T062005Z
LAST-MODIFIED:20241213T173156Z
UID:792-1731664800-1731672000@schuylkillwaters.org
SUMMARY:SAN Stormwater Workgroup Meeting
DESCRIPTION:Join us for the final SAN Stormwater Workgroup meeting of 2024 at Wissahickon Trails (12 Morris Road\, Ambler\, PA).\nDuring this meeting we will tour the newly renovated Wissahickon Trails barn which focused on improving flood resilience\, creating accessible public programming and staff spaces\, and preserving this historic building. \nIn addition this gathering will bring together partners across the watershed to discuss ongoing projects\, share updates\, and collaborate on strategies for reducing stormwater pollution in the Schuylkill River Watershed. Don’t miss this opportunity to connect\, network\, and advance regional efforts for cleaner water!\nContact Meghan with any questions or if you have any items for the agenda.\nSpaces are limited. Click here to register.
URL:https://schuylkillwaters.org/event/san-stormwater-workgroup-meeting-2/
CATEGORIES:SAN
END:VEVENT
BEGIN:VEVENT
DTSTART;TZID=America/New_York:20241119T133000
DTEND;TZID=America/New_York:20241119T153000
DTSTAMP:20260424T114644
CREATED:20241213T173151Z
LAST-MODIFIED:20241213T173151Z
UID:2830-1732023000-1732030200@schuylkillwaters.org
SUMMARY:Delaware River Basin Commission Public Hearing on Persistent Dry Conditions in the Basin
DESCRIPTION:The Delaware River Basin Commission (DRBC) will hold a special public hearing on Tuesday\, November 19\, 2024\, starting at 1:30 p.m.\, to receive comment on the matter of persistent dry conditions in the Basin.\nIf conditions worsen\, a special business meeting may follow on a date to be determined\, or DRBC may take action at its regularly scheduled Fourth-Quarter Business Meeting\, to be held December 5 at 10:30 a.m. to provide for coordinated operation of Basin reservoirs to conserve water and support mainstem flows.\nThe hearing and\, if needed\, the special business meeting\, will be open to the public and conducted virtually.\n  • View News Release (issued November 6\, 2024)\nThe Commission’s special public hearing on Tuesday\, Nov. 19\, 2024\, will start at 1:30 p.m. and end no later than 3:30 p.m.\nThe special public hearing\, which is being conducted via Zoom Webinar\, is to collect public testimony on the persistent dry conditions in the Basin.\nVisit https://www.nj.gov/drbc/meetings/proposed/notice_drought-conditions2024.html  for more information on the hearing and how to view and/or provide written or oral testimony.\n 
URL:https://schuylkillwaters.org/event/delaware-river-basin-commission-public-hearing-on-persistent-dry-conditions-in-the-basin/
CATEGORIES:SAN
END:VEVENT
BEGIN:VEVENT
DTSTART;TZID=America/New_York:20241119T180000
DTEND;TZID=America/New_York:20241119T210000
DTSTAMP:20260424T114644
CREATED:20241004T062004Z
LAST-MODIFIED:20241213T173155Z
UID:790-1732039200-1732050000@schuylkillwaters.org
SUMMARY:Perkiomen Mapping & Flood Mitigation Study - Public Meeting
DESCRIPTION:Flooding in our communities can be devastating. The Perkiomen Mapping & Flood Mitigation Study is the first phase of a long-term effort to help communities make more informed decisions regarding how and where to best implement stormwater management systems and projects in the Perkiomen Watershed. A series of public meetings are being held in Fall 2024 to collect valuable community input on this project.\nJoin the Perkiomen Mapping & Flood Mitigation Study team at Pennridge North Middle School on November 19th from 6-9pm to learn more and share your experience with flooding in the Perkiomen.\nVisit Perkiomen Watershed Conservancy’s website to learn more and view the latest updates on this study.
URL:https://schuylkillwaters.org/event/perkiomen-mapping-flood-mitigation-study-public-meeting-3/
CATEGORIES:SAN
END:VEVENT
BEGIN:VEVENT
DTSTART;TZID=America/New_York:20241121T180000
DTEND;TZID=America/New_York:20241121T210000
DTSTAMP:20260424T114644
CREATED:20241004T062003Z
LAST-MODIFIED:20241213T173155Z
UID:789-1732212000-1732222800@schuylkillwaters.org
SUMMARY:Perkiomen Mapping & Flood Mitigation Study - Public Meeting
DESCRIPTION:Flooding in our communities can be devastating. The Perkiomen Mapping & Flood Mitigation Study is the first phase of a long-term effort to help communities make more informed decisions regarding how and where to best implement stormwater management systems and projects in the Perkiomen Watershed. A series of public meetings are being held in Fall 2024 to collect valuable community input on this project.\nJoin the Perkiomen Mapping & Flood Mitigation Study team at Upper Perkiomen High School on November 21st from 6-9pm to learn more and share your experience with flooding in the Perkiomen.\nVisit Perkiomen Watershed Conservancy’s website to learn more and view the latest updates on this study.
URL:https://schuylkillwaters.org/event/perkiomen-mapping-flood-mitigation-study-public-meeting-2/
CATEGORIES:SAN
END:VEVENT
END:VCALENDAR