BEGIN:VCALENDAR
VERSION:2.0
PRODID:-//Schuylkill Action Network - ECPv6.15.20//NONSGML v1.0//EN
CALSCALE:GREGORIAN
METHOD:PUBLISH
X-WR-CALNAME:Schuylkill Action Network
X-ORIGINAL-URL:https://schuylkillwaters.org
X-WR-CALDESC:Events for Schuylkill Action Network
REFRESH-INTERVAL;VALUE=DURATION:PT1H
X-Robots-Tag:noindex
X-PUBLISHED-TTL:PT1H
BEGIN:VTIMEZONE
TZID:America/New_York
BEGIN:DAYLIGHT
TZOFFSETFROM:-0500
TZOFFSETTO:-0400
TZNAME:EDT
DTSTART:20230312T070000
END:DAYLIGHT
BEGIN:STANDARD
TZOFFSETFROM:-0400
TZOFFSETTO:-0500
TZNAME:EST
DTSTART:20231105T060000
END:STANDARD
BEGIN:DAYLIGHT
TZOFFSETFROM:-0500
TZOFFSETTO:-0400
TZNAME:EDT
DTSTART:20240310T070000
END:DAYLIGHT
BEGIN:STANDARD
TZOFFSETFROM:-0400
TZOFFSETTO:-0500
TZNAME:EST
DTSTART:20241103T060000
END:STANDARD
BEGIN:DAYLIGHT
TZOFFSETFROM:-0500
TZOFFSETTO:-0400
TZNAME:EDT
DTSTART:20250309T070000
END:DAYLIGHT
BEGIN:STANDARD
TZOFFSETFROM:-0400
TZOFFSETTO:-0500
TZNAME:EST
DTSTART:20251102T060000
END:STANDARD
END:VTIMEZONE
BEGIN:VEVENT
DTSTART;TZID=America/New_York:20241210T120000
DTEND;TZID=America/New_York:20241210T120000
DTSTAMP:20260424T114529
CREATED:20241213T173150Z
LAST-MODIFIED:20241213T173150Z
UID:2829-1733832000-1733832000@schuylkillwaters.org
SUMMARY:Webinar: PFAS 'Forever Chemical' Management: Philadelphia Water Department Approach
DESCRIPTION:The PA Association of Environmental Professionals are hosting a December 10 webinar on PFAS ‘Forever Chemical’ Management – Philadelphia Water Department Approach starting at Noon.\nAfter some brief background information on PFAS compounds\, the talk will focus on steps Philadelphia Water Department (PWD) has taken to characterize PFAS in source water\, plan for drinking water MCL compliance\, communicate with customers\, navigate wastewater and residuals\, and pilot treatment technologies. \nThe featured presenter will be Matthew Fritch who manages the Watershed Protection Program for the Philadelphia Water Department. \nWebinars are free to current PAEP members. Non-member fee is $20 per person.\nClick Here to register and for more information.
URL:https://schuylkillwaters.org/event/webinar-pfas-forever-chemical-management-philadelphia-water-department-approach/
CATEGORIES:SAN
END:VEVENT
END:VCALENDAR