BEGIN:VCALENDAR
VERSION:2.0
PRODID:-//Schuylkill Action Network - ECPv6.15.20//NONSGML v1.0//EN
CALSCALE:GREGORIAN
METHOD:PUBLISH
X-ORIGINAL-URL:https://schuylkillwaters.org
X-WR-CALDESC:Events for Schuylkill Action Network
REFRESH-INTERVAL;VALUE=DURATION:PT1H
X-Robots-Tag:noindex
X-PUBLISHED-TTL:PT1H
BEGIN:VTIMEZONE
TZID:America/New_York
BEGIN:DAYLIGHT
TZOFFSETFROM:-0500
TZOFFSETTO:-0400
TZNAME:EDT
DTSTART:20240310T070000
END:DAYLIGHT
BEGIN:STANDARD
TZOFFSETFROM:-0400
TZOFFSETTO:-0500
TZNAME:EST
DTSTART:20241103T060000
END:STANDARD
BEGIN:DAYLIGHT
TZOFFSETFROM:-0500
TZOFFSETTO:-0400
TZNAME:EDT
DTSTART:20250309T070000
END:DAYLIGHT
BEGIN:STANDARD
TZOFFSETFROM:-0400
TZOFFSETTO:-0500
TZNAME:EST
DTSTART:20251102T060000
END:STANDARD
BEGIN:DAYLIGHT
TZOFFSETFROM:-0500
TZOFFSETTO:-0400
TZNAME:EDT
DTSTART:20260308T070000
END:DAYLIGHT
BEGIN:STANDARD
TZOFFSETFROM:-0400
TZOFFSETTO:-0500
TZNAME:EST
DTSTART:20261101T060000
END:STANDARD
END:VTIMEZONE
BEGIN:VEVENT
DTSTART;TZID=America/New_York:20250128T100000
DTEND;TZID=America/New_York:20250128T113000
DTSTAMP:20260422T113025
CREATED:20241213T222505Z
LAST-MODIFIED:20250106T212513Z
UID:2850-1738058400-1738063800@schuylkillwaters.org
SUMMARY:SAN Abandoned Mine Drainage Workgroup Meeting (Virtual)
DESCRIPTION:Join us for our first quarterly Abandoned Mine Drainage Workgroup meeting of 2025 to connect regarding AMD projects in the Schuylkill Watershed!If you have an agenda item to discuss\, plan to attend\, or would like more information\, please email Meghan Rogalus. You can receive email reminders for the AMD workgroup meetings by signing up here. \nView the Meeting Agenda
URL:https://schuylkillwaters.org/event/san-abandoned-mine-drainage-workgroup-meeting-virtual-4/
CATEGORIES:SAN
END:VEVENT
BEGIN:VEVENT
DTSTART;TZID=America/New_York:20250128T130000
DTEND;TZID=America/New_York:20250128T160000
DTSTAMP:20260422T113025
CREATED:20250101T195343Z
LAST-MODIFIED:20250101T195344Z
UID:2923-1738069200-1738080000@schuylkillwaters.org
SUMMARY:Webinar: Lead Chemistry\, Communication\, and Local Engagement
DESCRIPTION:This special extended webinar event includes talks given at the EPA 21st Annual Drinking Water Workshop held on September 17-19\, 2024. Q&A sessions will follow each presentation. Certificates of attendance will be offered for this webinar. 
URL:https://schuylkillwaters.org/event/webinar-lead-chemistry-communication-and-local-engagement/
CATEGORIES:SAN
END:VEVENT
END:VCALENDAR