BEGIN:VCALENDAR
VERSION:2.0
PRODID:-//Schuylkill Action Network - ECPv6.15.20//NONSGML v1.0//EN
CALSCALE:GREGORIAN
METHOD:PUBLISH
X-ORIGINAL-URL:https://schuylkillwaters.org
X-WR-CALDESC:Events for Schuylkill Action Network
REFRESH-INTERVAL;VALUE=DURATION:PT1H
X-Robots-Tag:noindex
X-PUBLISHED-TTL:PT1H
BEGIN:VTIMEZONE
TZID:America/New_York
BEGIN:DAYLIGHT
TZOFFSETFROM:-0500
TZOFFSETTO:-0400
TZNAME:EDT
DTSTART:20240310T070000
END:DAYLIGHT
BEGIN:STANDARD
TZOFFSETFROM:-0400
TZOFFSETTO:-0500
TZNAME:EST
DTSTART:20241103T060000
END:STANDARD
BEGIN:DAYLIGHT
TZOFFSETFROM:-0500
TZOFFSETTO:-0400
TZNAME:EDT
DTSTART:20250309T070000
END:DAYLIGHT
BEGIN:STANDARD
TZOFFSETFROM:-0400
TZOFFSETTO:-0500
TZNAME:EST
DTSTART:20251102T060000
END:STANDARD
BEGIN:DAYLIGHT
TZOFFSETFROM:-0500
TZOFFSETTO:-0400
TZNAME:EDT
DTSTART:20260308T070000
END:DAYLIGHT
BEGIN:STANDARD
TZOFFSETFROM:-0400
TZOFFSETTO:-0500
TZNAME:EST
DTSTART:20261101T060000
END:STANDARD
END:VTIMEZONE
BEGIN:VEVENT
DTSTART;TZID=America/New_York:20251209T083000
DTEND;TZID=America/New_York:20251211T120000
DTSTAMP:20260421T110055
CREATED:20251120T161247Z
LAST-MODIFIED:20251120T161734Z
UID:4917-1765269000-1765454400@schuylkillwaters.org
SUMMARY:PennState Extension- "CropEd: Continuing Education for Crop Professionals"
DESCRIPTION:The Penn State Extension “CropEd: Continuing Education for Crop Professionals” webinar offers an opportunity to explore timely agricultural topics while earning pesticide certification credits. This webinar will feature Extension field and forage crop specialists and educators\, who will review the 2025 crop production season and share insights on innovations for the year ahead. Participants will gain access to the latest agronomic research\, products\, and technologies\, making this program a valuable resource for staying informed and strengthening expertise in crop management. \n\n\n\n\nRegister
URL:https://schuylkillwaters.org/event/croped-continuing-education-for-crop-professionals/
CATEGORIES:SAN
END:VEVENT
END:VCALENDAR